BEGIN:VCALENDAR
PRODID:-//Microsoft Corporation//Outlook 16.0 MIMEDIR//EN
VERSION:2.0
METHOD:PUBLISH
X-CALSTART:20251223T170000Z
X-CALEND:20271224T193000Z
X-WR-RELCALID:{0000002E-2B87-BA26-63EE-D3F9A2FF8FD9}
X-WR-CALNAME:Publication and Deadline Calendar 2026-2027
BEGIN:VTIMEZONE
TZID:Eastern Standard Time
BEGIN:STANDARD
DTSTART:16011104T020000
RRULE:FREQ=YEARLY;BYDAY=1SU;BYMONTH=11
TZOFFSETFROM:-0400
TZOFFSETTO:-0500
END:STANDARD
BEGIN:DAYLIGHT
DTSTART:16010311T020000
RRULE:FREQ=YEARLY;BYDAY=2SU;BYMONTH=3
TZOFFSETFROM:-0500
TZOFFSETTO:-0400
END:DAYLIGHT
END:VTIMEZONE
BEGIN:VEVENT
CLASS:PUBLIC
DTEND;TZID="Eastern Standard Time":20260102T143000
DTSTAMP:20260327T180506Z
DTSTART;TZID="Eastern Standard Time":20260102T140000
EXDATE;TZID="Eastern Standard Time":20271231T140000
RRULE:FREQ=WEEKLY;COUNT=105;BYDAY=FR
SEQUENCE:0
SUMMARY;LANGUAGE=en-ca:Publication Partie I
TRANSP:OPAQUE
UID:040000008200E00074C5B7101A82E00800000000800EE162E1BDDC01000000000000000
	01000000072310D092AF8D0498B8DFC0571EFE9A3
X-MICROSOFT-CDO-BUSYSTATUS:BUSY
END:VEVENT
BEGIN:VEVENT
CLASS:PUBLIC
DTEND;TZID="Eastern Standard Time":20260102T123000
DTSTAMP:20260327T180506Z
DTSTART;TZID="Eastern Standard Time":20260102T120000
EXDATE;TZID="Eastern Standard Time":20260327T120000,20260403T120000,2026051
	5T120000,20260626T120000,20260904T120000,20260925T120000,20261009T120000,2
	0261106T120000,20261218T120000,20261225T120000,20270101T120000,20270319T12
	0000,20270326T120000,20270521T120000,20270625T120000,20270903T120000,20270
	924T120000,20271008T120000,20271105T120000,20271224T120000,20271231T120000
RDATE;TZID="Eastern Standard Time":20260326T120000,20260514T120000,20260625
	T120000,20260903T120000,20260924T120000,20261008T120000,20261105T120000,20
	261215T120000,20261222T120000,20270318T120000,20270324T120000,20270520T120
	000,20270624T120000,20270902T120000,20270923T120000,20271007T120000,202711
	04T120000
RRULE:FREQ=WEEKLY;COUNT=105;BYDAY=FR
SEQUENCE:0
SUMMARY;LANGUAGE=en-ca:Échéance pour soumettre les documents-Deadline to 
	submit documents
TRANSP:OPAQUE
UID:040000008200E00074C5B7101A82E0080000000090702B5BEBBDDC01000000000000000
	01000000022A12F5BF029F44F82C30D22DE1A1AAF
X-MICROSOFT-CDO-BUSYSTATUS:BUSY
END:VEVENT
BEGIN:VEVENT
CLASS:PUBLIC
DTEND;TZID="Eastern Standard Time":20251223T123000
DTSTAMP:20260327T180506Z
DTSTART;TZID="Eastern Standard Time":20251223T120000
SEQUENCE:0
SUMMARY;LANGUAGE=en-ca:Échéance pour soumettre les documents-Deadline to 
	submit documents
TRANSP:OPAQUE
UID:040000008200E00074C5B7101A82E008000000003010C1D0EBBDDC01000000000000000
	0100000002966DB6195030A40B13D90592511682F
X-MICROSOFT-CDO-BUSYSTATUS:BUSY
END:VEVENT
BEGIN:VEVENT
CLASS:PUBLIC
DTEND;TZID="Eastern Standard Time":20260401T123000
DTSTAMP:20260327T180506Z
DTSTART;TZID="Eastern Standard Time":20260401T120000
SEQUENCE:0
SUMMARY;LANGUAGE=en-ca:Échéance pour soumettre les documents-Deadline to 
	submit documents
TRANSP:OPAQUE
UID:040000008200E00074C5B7101A82E0080000000040970716ECBDDC01000000000000000
	010000000AFDF25796C8F6A4FB63F6BA2B6CC59B1
X-MICROSOFT-CDO-BUSYSTATUS:BUSY
END:VEVENT
BEGIN:VEVENT
CLASS:PUBLIC
DTEND;TZID="Eastern Standard Time":20261231T123000
DTSTAMP:20260327T180506Z
DTSTART;TZID="Eastern Standard Time":20261231T120000
SEQUENCE:0
SUMMARY;LANGUAGE=en-ca:Échéance pour soumettre les documents-Deadline to 
	submit documents
TRANSP:OPAQUE
UID:040000008200E00074C5B7101A82E008000000001038FCA9EDBDDC01000000000000000
	010000000E44C2D26F2EC4C4C833C6D0453A50FE2
X-MICROSOFT-CDO-BUSYSTATUS:BUSY
END:VEVENT
BEGIN:VEVENT
CLASS:PUBLIC
DTEND;VALUE=DATE:20260108
DTSTAMP:20260327T180506Z
DTSTART;VALUE=DATE:20260107
RRULE:FREQ=WEEKLY;COUNT=52;INTERVAL=2;BYDAY=WE;WKST=SU
SEQUENCE:0
SUMMARY;LANGUAGE=en-ca:Publication PII
TRANSP:TRANSPARENT
UID:040000008200E00074C5B7101A82E00800000000300E38B5F1BDDC01000000000000000
	010000000338D6CA68FB83548A80E043BFA87608D
X-MICROSOFT-CDO-BUSYSTATUS:FREE
END:VEVENT
END:VCALENDAR
